BEGIN:VCALENDAR
VERSION:2.0
PRODID:-//Kamiak PTO - ECPv6.15.17.1//NONSGML v1.0//EN
CALSCALE:GREGORIAN
METHOD:PUBLISH
X-ORIGINAL-URL:https://kamiakpto.com
X-WR-CALDESC:Events for Kamiak PTO
REFRESH-INTERVAL;VALUE=DURATION:PT1H
X-Robots-Tag:noindex
X-PUBLISHED-TTL:PT1H
BEGIN:VTIMEZONE
TZID:UTC
BEGIN:STANDARD
TZOFFSETFROM:+0000
TZOFFSETTO:+0000
TZNAME:UTC
DTSTART:20240101T000000
END:STANDARD
END:VTIMEZONE
BEGIN:VEVENT
DTSTART;TZID=UTC:20250902T070000
DTEND;TZID=UTC:20250902T140000
DTSTAMP:20260421T030819
CREATED:20250615T183653Z
LAST-MODIFIED:20250615T183654Z
UID:1600-1756796400-1756821600@kamiakpto.com
SUMMARY:First Day of School Freshman
DESCRIPTION:First day of classes for incoming freshman
URL:https://kamiakpto.com/event/first-day-of-school-freshman/
LOCATION:Kamiak High School\, 10801 Harbour Pointe Blvd.\, Mukilteo\, WA\, 98275
END:VEVENT
BEGIN:VEVENT
DTSTART;TZID=UTC:20250903T070000
DTEND;TZID=UTC:20250903T140000
DTSTAMP:20260421T030819
CREATED:20250615T183829Z
LAST-MODIFIED:20250615T183830Z
UID:1604-1756882800-1756908000@kamiakpto.com
SUMMARY:First Day of School Sophomore\, Juniors and Seniors
DESCRIPTION:First day of classes for Sophomore\, Juniors and Seniors
URL:https://kamiakpto.com/event/first-day-of-school-sophomore-juniors-and-seniors/
LOCATION:Kamiak High School\, 10801 Harbour Pointe Blvd.\, Mukilteo\, WA\, 98275
END:VEVENT
BEGIN:VEVENT
DTSTART;TZID=UTC:20250909T183000
DTEND;TZID=UTC:20250909T193000
DTSTAMP:20260421T030819
CREATED:20250614T175401Z
LAST-MODIFIED:20250620T174023Z
UID:1591-1757442600-1757446200@kamiakpto.com
SUMMARY:Kamiak PTO Monthly Meeting
DESCRIPTION:Learn about the Kamiak PTO\, upcoming events\, fundraisers etc. Meetings held at the Kamiak High School Library.
URL:https://kamiakpto.com/event/kamiak-pto-monthly-meeting-3/
LOCATION:Kamiak High School\, 10801 Harbour Pointe Blvd.\, Mukilteo\, WA\, 98275
CATEGORIES:Monthly Meeting
END:VEVENT
END:VCALENDAR