BEGIN:VCALENDAR
VERSION:2.0
PRODID:-//Kamiak PTO - ECPv6.15.17.1//NONSGML v1.0//EN
CALSCALE:GREGORIAN
METHOD:PUBLISH
X-WR-CALNAME:Kamiak PTO
X-ORIGINAL-URL:https://kamiakpto.com
X-WR-CALDESC:Events for Kamiak PTO
REFRESH-INTERVAL;VALUE=DURATION:PT1H
X-Robots-Tag:noindex
X-PUBLISHED-TTL:PT1H
BEGIN:VTIMEZONE
TZID:UTC
BEGIN:STANDARD
TZOFFSETFROM:+0000
TZOFFSETTO:+0000
TZNAME:UTC
DTSTART:20240101T000000
END:STANDARD
END:VTIMEZONE
BEGIN:VEVENT
DTSTART;TZID=UTC:20250603T180000
DTEND;TZID=UTC:20250603T190000
DTSTAMP:20260421T235026
CREATED:20250306T180705Z
LAST-MODIFIED:20250306T180706Z
UID:1553-1748973600-1748977200@kamiakpto.com
SUMMARY:Kamiak PTO Monthly Meeting
DESCRIPTION:You are invited to join a group of enthusiastic supporters of Kamiak High School. Our meetings offer parents and guardians the opportunity to connect with one another and learn more about Kamiak. We would be glad to have you there too!
URL:https://kamiakpto.com/event/kamiak-pto-monthly-meeting-11/
LOCATION:WA
END:VEVENT
END:VCALENDAR