BEGIN:VCALENDAR
VERSION:2.0
PRODID:-//Kamiak PTO - ECPv6.15.17.1//NONSGML v1.0//EN
CALSCALE:GREGORIAN
METHOD:PUBLISH
X-WR-CALNAME:Kamiak PTO
X-ORIGINAL-URL:https://kamiakpto.com
X-WR-CALDESC:Events for Kamiak PTO
REFRESH-INTERVAL;VALUE=DURATION:PT1H
X-Robots-Tag:noindex
X-PUBLISHED-TTL:PT1H
BEGIN:VTIMEZONE
TZID:UTC
BEGIN:STANDARD
TZOFFSETFROM:+0000
TZOFFSETTO:+0000
TZNAME:UTC
DTSTART:20240101T000000
END:STANDARD
END:VTIMEZONE
BEGIN:VEVENT
DTSTART;TZID=UTC:20250513T180000
DTEND;TZID=UTC:20250513T190000
DTSTAMP:20260421T000234
CREATED:20250306T180210Z
LAST-MODIFIED:20250306T180211Z
UID:1551-1747159200-1747162800@kamiakpto.com
SUMMARY:Kamiak PTO Monthly Meeting
DESCRIPTION:You are invited to join a group of enthusiastic supporters of Kamiak High School. Our meetings offer parents and guardians the opportunity to connect with one another and learn more about Kamiak. We would be glad to have you there too!
URL:https://kamiakpto.com/event/kamiak-pto-monthly-meeting-10/
LOCATION:WA
END:VEVENT
BEGIN:VEVENT
DTSTART;TZID=UTC:20250508T080000
DTEND;TZID=UTC:20250508T130000
DTSTAMP:20260421T000234
CREATED:20250416T020815Z
LAST-MODIFIED:20250416T020817Z
UID:1564-1746691200-1746709200@kamiakpto.com
SUMMARY:Spring Staff Appreciation Luncheon
DESCRIPTION:It’s National Teacher and Staff Appreciation Week May 5-9th! Let’s celebrate our staff by creating the joy of a meal! Drop off drinks and non-perishable items anytime May 6th-8th to the front office. Bring salads\, mains\, desserts\, and all other items on May 8th by 10am!!! If bringing a hot dish\, please place in an oven safe aluminum pan or have in a crockpot or instant pot to plug in so we can keep warm for all lunches! Please indicate allergens on items. Thank you in advance for support of our awesome staff. Thank you! 🙂
URL:https://kamiakpto.com/event/spring-staff-appreciation-luncheon/
LOCATION:Kamiak High School Office\, 10801 Harbour Pointe Blvd\, Mukilteo\, Washington\, 98275\, United States
END:VEVENT
END:VCALENDAR