BEGIN:VCALENDAR
VERSION:2.0
PRODID:-//Kamiak PTO - ECPv6.15.17.1//NONSGML v1.0//EN
CALSCALE:GREGORIAN
METHOD:PUBLISH
X-WR-CALNAME:Kamiak PTO
X-ORIGINAL-URL:https://kamiakpto.com
X-WR-CALDESC:Events for Kamiak PTO
REFRESH-INTERVAL;VALUE=DURATION:PT1H
X-Robots-Tag:noindex
X-PUBLISHED-TTL:PT1H
BEGIN:VTIMEZONE
TZID:UTC
BEGIN:STANDARD
TZOFFSETFROM:+0000
TZOFFSETTO:+0000
TZNAME:UTC
DTSTART:20240101T000000
END:STANDARD
END:VTIMEZONE
BEGIN:VEVENT
DTSTART;TZID=UTC:20251209T183000
DTEND;TZID=UTC:20251209T193000
DTSTAMP:20260420T233658
CREATED:20250614T175608Z
LAST-MODIFIED:20250614T175651Z
UID:1597-1765305000-1765308600@kamiakpto.com
SUMMARY:Kamiak PTO Monthly Meeting
DESCRIPTION:Learn about the Kamiak PTO\, upcoming events\, fundraisers etc. Meetings held at the Kamiak High School Library.
URL:https://kamiakpto.com/event/kamiak-pto-monthly-meeting-12/
LOCATION:Kamiak High School\, 10801 Harbour Pointe Blvd.\, Mukilteo\, WA\, 98275
CATEGORIES:Monthly Meeting
END:VEVENT
BEGIN:VEVENT
DTSTART;TZID=UTC:20260117T100000
DTEND;TZID=UTC:20260117T140000
DTSTAMP:20260420T233658
CREATED:20260112T211756Z
LAST-MODIFIED:20260112T211757Z
UID:1625-1768644000-1768658400@kamiakpto.com
SUMMARY:Show your support for the upcoming levy/bond measure 
DESCRIPTION:As you know\, we are beginning the most critical weeks of our Levy and Bond Campaign. The ballots will be dropping soon\, and we need to remind our community to vote YES and to return the ballots in the mail by the end of the day on February 10th. \n\n\n\nSo let’s get out there and wave some signs! It’s an opportunity for us as parents\, staff and community to show the voters we are in it to win it.  \n\n\n\nSign up now! Here’s a link: \n\n\n\nhttps://www.signupgenius.com/go/10C0B45ABAB22A4FB6-60734611-sign \n\n\n\nIf you have questions\, contact Bente Klatt: bente.klatt@gmail.com
URL:https://kamiakpto.com/event/show-your-support-for-the-upcoming-levy-bond-measure/
LOCATION:WA
END:VEVENT
BEGIN:VEVENT
DTSTART;TZID=UTC:20260124T100000
DTEND;TZID=UTC:20260124T140000
DTSTAMP:20260420T233658
CREATED:20260112T212756Z
LAST-MODIFIED:20260112T212756Z
UID:1627-1769248800-1769263200@kamiakpto.com
SUMMARY:Show your support for the upcoming levy/bond measure 
DESCRIPTION:As you know\, we are beginning the most critical weeks of our Levy and Bond Campaign. The ballots will be dropping soon\, and we need to remind our community to vote YES and to return the ballots in the mail by the end of the day on February 10th. \n\n\n\nSo let’s get out there and wave some signs! It’s an opportunity for us as parents\, staff and community to show the voters we are in it to win it.  \n\n\n\nSign up now! Here’s a link: \n\n\n\nhttps://www.signupgenius.com/go/10C0B45ABAB22A4FB6-60734611-sign \n\n\n\nIf you have questions\, contact Bente Klatt: bente.klatt@gmail.com
URL:https://kamiakpto.com/event/show-your-support-for-the-upcoming-levy-bond-measure-2/
LOCATION:WA
END:VEVENT
BEGIN:VEVENT
DTSTART;TZID=UTC:20260131T100000
DTEND;TZID=UTC:20260131T140000
DTSTAMP:20260420T233658
CREATED:20260112T212817Z
LAST-MODIFIED:20260112T212833Z
UID:1629-1769853600-1769868000@kamiakpto.com
SUMMARY:Show your support for the upcoming levy/bond measure 
DESCRIPTION:As you know\, we are beginning the most critical weeks of our Levy and Bond Campaign. The ballots will be dropping soon\, and we need to remind our community to vote YES and to return the ballots in the mail by the end of the day on February 10th. \n\n\n\nSo let’s get out there and wave some signs! It’s an opportunity for us as parents\, staff and community to show the voters we are in it to win it.  \n\n\n\nSign up now! Here’s a link: \n\n\n\nhttps://www.signupgenius.com/go/10C0B45ABAB22A4FB6-60734611-sign \n\n\n\nIf you have questions\, contact Bente Klatt: bente.klatt@gmail.com
URL:https://kamiakpto.com/event/show-your-support-for-the-upcoming-levy-bond-measure-3/
LOCATION:WA
END:VEVENT
BEGIN:VEVENT
DTSTART;TZID=UTC:20260207T100000
DTEND;TZID=UTC:20260207T140000
DTSTAMP:20260420T233658
CREATED:20260112T212852Z
LAST-MODIFIED:20260112T212853Z
UID:1631-1770458400-1770472800@kamiakpto.com
SUMMARY:Show your support for the upcoming levy/bond measure 
DESCRIPTION:As you know\, we are beginning the most critical weeks of our Levy and Bond Campaign. The ballots will be dropping soon\, and we need to remind our community to vote YES and to return the ballots in the mail by the end of the day on February 10th. \n\n\n\nSo let’s get out there and wave some signs! It’s an opportunity for us as parents\, staff and community to show the voters we are in it to win it.  \n\n\n\nSign up now! Here’s a link: \n\n\n\nhttps://www.signupgenius.com/go/10C0B45ABAB22A4FB6-60734611-sign \n\n\n\nIf you have questions\, contact Bente Klatt: bente.klatt@gmail.com
URL:https://kamiakpto.com/event/show-your-support-for-the-upcoming-levy-bond-measure-4/
LOCATION:WA
END:VEVENT
BEGIN:VEVENT
DTSTART;TZID=UTC:20260209T150000
DTEND;TZID=UTC:20260209T180000
DTSTAMP:20260420T233658
CREATED:20260112T212932Z
LAST-MODIFIED:20260112T212933Z
UID:1633-1770649200-1770660000@kamiakpto.com
SUMMARY:Show your support for the upcoming levy/bond measure 
DESCRIPTION:As you know\, we are beginning the most critical weeks of our Levy and Bond Campaign. The ballots will be dropping soon\, and we need to remind our community to vote YES and to return the ballots in the mail by the end of the day on February 10th. \n\n\n\nSo let’s get out there and wave some signs! It’s an opportunity for us as parents\, staff and community to show the voters we are in it to win it.  \n\n\n\nSign up now! Here’s a link: \n\n\n\nhttps://www.signupgenius.com/go/10C0B45ABAB22A4FB6-60734611-sign \n\n\n\nIf you have questions\, contact Bente Klatt: bente.klatt@gmail.com
URL:https://kamiakpto.com/event/show-your-support-for-the-upcoming-levy-bond-measure-5/
LOCATION:WA
END:VEVENT
BEGIN:VEVENT
DTSTART;TZID=UTC:20260317T183000
DTEND;TZID=UTC:20260317T193000
DTSTAMP:20260420T233658
CREATED:20260310T005030Z
LAST-MODIFIED:20260310T005345Z
UID:1637-1773772200-1773775800@kamiakpto.com
SUMMARY:Kamiak PTO Monthly Meeting
DESCRIPTION:Learn about the Kamiak PTO\, upcoming events\, fundraisers etc. Held at the CCRC office at Kamiak.
URL:https://kamiakpto.com/event/monthly-meeting/
LOCATION:Kamiak High School\, 10801 Harbour Pointe Blvd.\, Mukilteo\, WA\, 98275
END:VEVENT
END:VCALENDAR