BEGIN:VCALENDAR
VERSION:2.0
PRODID:-//Kamiak PTO - ECPv6.15.17.1//NONSGML v1.0//EN
CALSCALE:GREGORIAN
METHOD:PUBLISH
X-WR-CALNAME:Kamiak PTO
X-ORIGINAL-URL:https://kamiakpto.com
X-WR-CALDESC:Events for Kamiak PTO
REFRESH-INTERVAL;VALUE=DURATION:PT1H
X-Robots-Tag:noindex
X-PUBLISHED-TTL:PT1H
BEGIN:VTIMEZONE
TZID:UTC
BEGIN:STANDARD
TZOFFSETFROM:+0000
TZOFFSETTO:+0000
TZNAME:UTC
DTSTART:20240101T000000
END:STANDARD
END:VTIMEZONE
BEGIN:VEVENT
DTSTART;TZID=UTC:20251209T183000
DTEND;TZID=UTC:20251209T193000
DTSTAMP:20260420T200019
CREATED:20250614T175608Z
LAST-MODIFIED:20250614T175651Z
UID:1597-1765305000-1765308600@kamiakpto.com
SUMMARY:Kamiak PTO Monthly Meeting
DESCRIPTION:Learn about the Kamiak PTO\, upcoming events\, fundraisers etc. Meetings held at the Kamiak High School Library.
URL:https://kamiakpto.com/event/kamiak-pto-monthly-meeting-12/
LOCATION:Kamiak High School\, 10801 Harbour Pointe Blvd.\, Mukilteo\, WA\, 98275
CATEGORIES:Monthly Meeting
END:VEVENT
END:VCALENDAR