BEGIN:VCALENDAR
VERSION:2.0
PRODID:-//Kamiak PTO - ECPv6.15.17.1//NONSGML v1.0//EN
CALSCALE:GREGORIAN
METHOD:PUBLISH
X-ORIGINAL-URL:https://kamiakpto.com
X-WR-CALDESC:Events for Kamiak PTO
REFRESH-INTERVAL;VALUE=DURATION:PT1H
X-Robots-Tag:noindex
X-PUBLISHED-TTL:PT1H
BEGIN:VTIMEZONE
TZID:UTC
BEGIN:STANDARD
TZOFFSETFROM:+0000
TZOFFSETTO:+0000
TZNAME:UTC
DTSTART:20240101T000000
END:STANDARD
END:VTIMEZONE
BEGIN:VEVENT
DTSTART;TZID=UTC:20250903T070000
DTEND;TZID=UTC:20250903T140000
DTSTAMP:20260421T030655
CREATED:20250615T183829Z
LAST-MODIFIED:20250615T183830Z
UID:1604-1756882800-1756908000@kamiakpto.com
SUMMARY:First Day of School Sophomore\, Juniors and Seniors
DESCRIPTION:First day of classes for Sophomore\, Juniors and Seniors
URL:https://kamiakpto.com/event/first-day-of-school-sophomore-juniors-and-seniors/
LOCATION:Kamiak High School\, 10801 Harbour Pointe Blvd.\, Mukilteo\, WA\, 98275
END:VEVENT
END:VCALENDAR